BEGIN:VCALENDAR
VERSION:2.0
PRODID:-//Mid West-Gascoyne Health Professional Network - ECPv5.4.0//NONSGML v1.0//EN
CALSCALE:GREGORIAN
METHOD:PUBLISH
X-WR-CALNAME:Mid West-Gascoyne Health Professional Network
X-ORIGINAL-URL:https://www.mwhpn.com.au
X-WR-CALDESC:Events for Mid West-Gascoyne Health Professional Network
BEGIN:VTIMEZONE
TZID:Australia/Perth
BEGIN:STANDARD
TZOFFSETFROM:+0800
TZOFFSETTO:+0800
TZNAME:AWST
DTSTART:20210101T000000
END:STANDARD
END:VTIMEZONE
BEGIN:VEVENT
DTSTART;VALUE=DATE:20210304
DTEND;VALUE=DATE:20210306
DTSTAMP:20210301T013411
CREATED:20210106T023827Z
LAST-MODIFIED:20210106T024203Z
UID:5635-1614816000-1614988799@www.mwhpn.com.au
SUMMARY:Neonatal Emergency Care - Geraldton - 4th & 5th March 2021
DESCRIPTION:https://www.ruralhealthwest.com.au/general-practice/professional-development/conferences-events/2021/03/04/default-calendar/neonatal-emergency-care-(nec)—geraldton
URL:https://www.mwhpn.com.au/event/neonatal-emergency-care-geraldton-4th-5th-march-2021/
LOCATION:Geraldton\, Geraldton\, WA\, 6530\, Australia
CATEGORIES:Health
END:VEVENT
BEGIN:VEVENT
DTSTART;TZID=Australia/Perth:20210305T080000
DTEND;TZID=Australia/Perth:20210306T170000
DTSTAMP:20210301T013411
CREATED:20210223T020328Z
LAST-MODIFIED:20210223T020328Z
UID:5876-1614931200-1615050000@www.mwhpn.com.au
SUMMARY:The ADAWA Executive team will be in Geraldton Friday 5th and Saturday 6th March!!
DESCRIPTION:
URL:https://www.mwhpn.com.au/event/the-adawa-executive-team-will-be-in-geraldton-friday-5th-and-saturday-6th-march/
LOCATION:WA\, Australia
CATEGORIES:Health
END:VEVENT
BEGIN:VEVENT
DTSTART;TZID=Australia/Perth:20210308T140000
DTEND;TZID=Australia/Perth:20210308T150000
DTSTAMP:20210301T013411
CREATED:20210210T014557Z
LAST-MODIFIED:20210210T014557Z
UID:5825-1615212000-1615215600@www.mwhpn.com.au
SUMMARY:Diabetes WA LIVE -  Health Professionals
DESCRIPTION:New Upskilling Webinar Series for Health Professionals\nBook your place now!! \nMonday 15 February\, Diabetes & Coeliac Disease\nMonday 8 March\, Diabetes & Mental Health \nTuesday 16 March\, Diabetes & Hormones \nMonday 22 March\, Diabetes Medications Update \nDiabetes WA LIVE – Health Professionals is a series of educational webinars for health professionals\, run by Diabetes WA Credentialled Diabetes Educators. They offer support and training to health professionals who would like the latest diabetes management advice.  Each interactive webinar will run for approximately 30 minutes\, with extra time for questions. \nRegister and book for a health professional upskilling webinar here. \n  \nDownload new January-March 2021 calendar of sessions here.
URL:https://www.mwhpn.com.au/event/diabetes-wa-live-health-professionals-2/
LOCATION:Online event\, WA\, Australia
CATEGORIES:Health
END:VEVENT
BEGIN:VEVENT
DTSTART;TZID=Australia/Perth:20210310T173000
DTEND;TZID=Australia/Perth:20210310T190000
DTSTAMP:20210301T013411
CREATED:20210218T035330Z
LAST-MODIFIED:20210218T035330Z
UID:5871-1615397400-1615402800@www.mwhpn.com.au
SUMMARY:Physio Professional Development Evening Wed 10th March 2021
DESCRIPTION:Please join us for a Professional Development evening\npresented by 4th year Musculoskeletal physiotherapy\nstudents.\n• Cervical Pathologies\n• Cervical Management\nDate: Wednesday 10 March\nTime: 5.30 – 7pm\nVenue: EdSim Seminar room\nWA Centre for Rural Health\n167 Fitzgerald St\, Geraldton\nWho can attend:\nThis is a free event for all allied health professionals \nPlease see attached flyer \nPhysio PD Evening 10th March 2021
URL:https://www.mwhpn.com.au/event/physio-professional-development-evening-wed-10th-march-2021/
LOCATION:WACRH\, 167 Fitzgerald St\, Geraldton\, WA\, 6530\, Australia
CATEGORIES:Health
END:VEVENT
BEGIN:VEVENT
DTSTART;TZID=Australia/Perth:20210311T183000
DTEND;TZID=Australia/Perth:20210311T210000
DTSTAMP:20210301T013411
CREATED:20210223T032549Z
LAST-MODIFIED:20210223T032549Z
UID:5878-1615487400-1615496400@www.mwhpn.com.au
SUMMARY:International Women's Day Dinner 2021....Women in Leadership...Geraldton...Thursday 11th March 2021
DESCRIPTION:International Women’s Day 2021 (6)
URL:https://www.mwhpn.com.au/event/international-womens-day-dinner-2021-women-in-leadership-geraldton-thursday-11th-march-2021/
LOCATION:Geraldton Yacht Club\, 214 Marine Terrace\, Geraldton\, WA\, 6530\, Australia
CATEGORIES:Community,Health
END:VEVENT
BEGIN:VEVENT
DTSTART;TZID=Australia/Perth:20210316T130000
DTEND;TZID=Australia/Perth:20210316T140000
DTSTAMP:20210301T013411
CREATED:20210210T014738Z
LAST-MODIFIED:20210210T014738Z
UID:5826-1615899600-1615903200@www.mwhpn.com.au
SUMMARY:Diabetes WA LIVE -  Health Professionals
DESCRIPTION:New Upskilling Webinar Series for Health Professionals\nBook your place now!! \nMonday 15 February\, Diabetes & Coeliac Disease\nMonday 8 March\, Diabetes & Mental Health \nTuesday 16 March\, Diabetes & Hormones \nMonday 22 March\, Diabetes Medications Update \nDiabetes WA LIVE – Health Professionals is a series of educational webinars for health professionals\, run by Diabetes WA Credentialled Diabetes Educators. They offer support and training to health professionals who would like the latest diabetes management advice.  Each interactive webinar will run for approximately 30 minutes\, with extra time for questions. \nRegister and book for a health professional upskilling webinar here. \n  \nDownload new January-March 2021 calendar of sessions here.
URL:https://www.mwhpn.com.au/event/diabetes-wa-live-health-professionals-3/
LOCATION:Online event\, WA\, Australia
CATEGORIES:Health
END:VEVENT
BEGIN:VEVENT
DTSTART;TZID=Australia/Perth:20210318T100000
DTEND;TZID=Australia/Perth:20210318T120000
DTSTAMP:20210301T013411
CREATED:20210216T042525Z
LAST-MODIFIED:20210216T042525Z
UID:5851-1616061600-1616068800@www.mwhpn.com.au
SUMMARY:Ngala's Open Day Thurs 18th March 2021.....Geraldton
DESCRIPTION:Meet the team as they showcase Ngala programs and services through interactive games and activities. \nEveryone is welcome with morning tea provided! \nThursday 18th March 2021 – 10am – 12pm \nNgala grounds & training room \n24-28 Gregory St \nGeraldton WA 6530 \nRSVP essential to Grady by Thursday 11th March 2021 \ngsmith@ngala.com.au or 9921 4477 \n 
URL:https://www.mwhpn.com.au/event/ngalas-open-day-thurs-18th-march-2021-geraldton/
LOCATION:Ngala\, 24-28 Gregory St\, Geraldton\, WA\, 6530\, Australia
CATEGORIES:Health
END:VEVENT
BEGIN:VEVENT
DTSTART;TZID=Australia/Perth:20210322T140000
DTEND;TZID=Australia/Perth:20210322T150000
DTSTAMP:20210301T013411
CREATED:20210210T014836Z
LAST-MODIFIED:20210210T014836Z
UID:5827-1616421600-1616425200@www.mwhpn.com.au
SUMMARY:Diabetes WA LIVE -  Health Professionals
DESCRIPTION:New Upskilling Webinar Series for Health Professionals\nBook your place now!! \nMonday 15 February\, Diabetes & Coeliac Disease\nMonday 8 March\, Diabetes & Mental Health \nTuesday 16 March\, Diabetes & Hormones \nMonday 22 March\, Diabetes Medications Update \nDiabetes WA LIVE – Health Professionals is a series of educational webinars for health professionals\, run by Diabetes WA Credentialled Diabetes Educators. They offer support and training to health professionals who would like the latest diabetes management advice.  Each interactive webinar will run for approximately 30 minutes\, with extra time for questions. \nRegister and book for a health professional upskilling webinar here. \n  \nDownload new January-March 2021 calendar of sessions here.
URL:https://www.mwhpn.com.au/event/diabetes-wa-live-health-professionals-4/
LOCATION:Online event\, WA\, Australia
CATEGORIES:Health
END:VEVENT
BEGIN:VEVENT
DTSTART;TZID=Australia/Perth:20210325T190000
DTEND;TZID=Australia/Perth:20210325T200000
DTSTAMP:20210301T013411
CREATED:20210216T034022Z
LAST-MODIFIED:20210216T034022Z
UID:5850-1616698800-1616702400@www.mwhpn.com.au
SUMMARY:Cancer Council-GP Cancer Education
DESCRIPTION:Neck lumps: when to be\nsuspicious  \nOverview\nNeck masses are a common cause of presentation to general\npractice for both adults and children. It is important primary care\nhealth professionals are confident in the diagnosis\, management\,\nand referral of neck lumps.\nLearning outcomes*\n1. Describe modifiable factors known to increase the risk of\nmalignant neck lumps\n2. Outline the differential diagnosis of neck lumps in adults\nand in children\n3. Identify the clinical features of neck lumps requiring\nurgent investigation\n4. Summarise the urgent referral pathway for adults\npresenting with a neck lump\n5. Summarise the urgent referral pathway for children\npresenting with a neck lump\n*Please note these learning outcomes are subject to change\nPresenter\nDr Daren Gibson\nConsultant Radiologist and Co-head Imaging Dept\, Fiona Stanley\nHospital. Lead Head & Neck\, Tumour Collaborative WACPCN\nRegister now\nDate:\nThursday\, 25 March\nTime:\n7.00 – 8.00pm\nMode of delivery\nZoom webinar\nTo register\nRegistrations are essential.\nA link to join the webinar will\nbe sent to delegates prior to\nthe session. Visit the online\nregistration page:https://www.eventbrite.com.au/e/neck-lumps-when-to-be-suspicious-tickets-139325603631 \nFor more information\nw: www.cancerwa.asn.au\ne: GP@cancerwa.asn.au\np: (08) 9212 4306
URL:https://www.mwhpn.com.au/event/cancer-council-gp-cancer-education/
LOCATION:Zoom Webinar\, WA\, Australia
CATEGORIES:Health
END:VEVENT
BEGIN:VEVENT
DTSTART;VALUE=DATE:20210326
DTEND;VALUE=DATE:20210327
DTSTAMP:20210301T013411
CREATED:20210128T013407Z
LAST-MODIFIED:20210204T023648Z
UID:5768-1616716800-1616803199@www.mwhpn.com.au
SUMMARY:Rural Paediatric Forum | Friday 26 March
DESCRIPTION:Presentations: rural paediatric update\, NETS WA\, overview of WACHS developmental paediatric service\, autism mini screen\, adolescent health overview\, transition services for adolescents\, sleep services for rural kids\, immunology and MORE. Click here to register your interest and for further information. \nRural Paediatrics Forum 2021 Preliminary Program
URL:https://www.mwhpn.com.au/event/rural-paediatric-forum-friday-26-march/
LOCATION:Perth Convention and Exhibition Centre\, 21 Mounts Bay Road\, Perth\, WA\, 6000\, Australia
CATEGORIES:Health
END:VEVENT
BEGIN:VEVENT
DTSTART;VALUE=DATE:20210326
DTEND;VALUE=DATE:20210327
DTSTAMP:20210301T013412
CREATED:20210204T091506Z
LAST-MODIFIED:20210204T091506Z
UID:5814-1616716800-1616803199@www.mwhpn.com.au
SUMMARY:Rural Psychiatry and Mental Health Forum 2021
DESCRIPTION:We are writing to inform you that registration for the Rural Health West CPD: Rural Psychiatry and Mental Health Forum 2021\, being held at Perth Convention and Exhibition Centre on Friday 26 March 2021\, is now open! \nForum details\nThis forum is part of the WA Country Health Service and Rural Health West Resident Specialist Procedural GP Education Series. \nThe forum will be limited to 60 participants.  The one day Rural Psychiatry and Mental Health Forum 2021\, will include lectures\, interactive discussions and sessions delivered and facilitated by experienced specialists.  The forum will provide an opportunity to network with fellow colleagues. \nTravel support is available for currently practising psychologists\, psychiatrists and GPs or medical practitioners who work and live in rural and remote WA. \nThis forum is pending accreditation with RACGP and ACRRM. \nEligibility\nOpen to all currently practising Psychologists\, Psychiatrists and GPs or medical practitioners \nREGISTER HERE\nOnline registration: https://ruralhealthwest.eventsair.com/rpmhf-2021/ \nPreliminary Program\nTopics included at the forum \n\nIntroduction to the concepts of discussing Goals of Care and Advanced Health Directives\nEnd of Life Liaison Service; Psychiatrists role across a range of functions (Goals of Care\, Advanced Health Directives\, Voluntary Assisted Dying)\nDistinguishing between distress\, depression and demoralisation\nExistential distress at end of life and meaning-focussed interventions\nHow psychiatrists can link in with an integrated palliative care/psychosocial continuum of care inclusive of GPs\nTrans- diagnostic presentations in youth and adults with Eating Disorders\n\nShould you have any enquiries\, please contact the Continuing Professional Development Team at cpd@ruralhealthwest.com.au or 08 6389 4500.  Thank you.
URL:https://www.mwhpn.com.au/event/rural-psychiatry-and-mental-health-forum-2021/
LOCATION:Perth Convention and Exhibition Centre\, 21 Mounts Bay Road\, Perth\, WA\, 6000\, Australia
CATEGORIES:Health
END:VEVENT
BEGIN:VEVENT
DTSTART;TZID=Australia/Perth:20210326T080000
DTEND;TZID=Australia/Perth:20210326T170000
DTSTAMP:20210301T013412
CREATED:20210106T083026Z
LAST-MODIFIED:20210106T083026Z
UID:5647-1616745600-1616778000@www.mwhpn.com.au
SUMMARY:Toxicological Emergencies Workshop
DESCRIPTION:This Rural Health West CPD workshop\, presented by leading specialists in their field\, has been designed to offer practising rural medical practitioners an update in toxicological emergencies. \nThis one day workshop stream covers general and specific topics related to poisoning and local toxicology\, using an interactive tutorial format concentrating on small group discussions of case scenarios. \nThe workshop content includes:\n• Understand the pathophysiology and clinical effects of common envenomation (snake\, spider and marine).\n• Improve ability to decide on patient disposition and appropriately stabilise patients for transport.\n• Improve understanding of the appropriate use of first aid and investigations\, Identify and list common poisonings.\n• Apply a systematic diagnostic approach in toxicological presentations to increase patient safety. \nEligibility: Priority will be given to currently practising medical practitioners within the region \nLength: One day \nCost:\nGPs – $550.00\nNurses – $350.00\nThe cost of this workshop is subsidised by WA Country Health Service through the Better Medical Care Initiative. \nAccreditation: This workshop has been approved accreditation with The Royal Australian College of General Practitioners (RACGP) and the Australian College of Rural and Remote Medicine (ACRRM) for continuing professional development points and is approved for the Rural Procedural Grants Program\, Emergency Grant component. Please contact your relevant college before attending\, to ascertain your eligibility. \nRegister here.
URL:https://www.mwhpn.com.au/event/toxicological-emergencies-workshop/
LOCATION:WA\, Australia
CATEGORIES:Health
END:VEVENT
BEGIN:VEVENT
DTSTART;TZID=Australia/Perth:20210326T080000
DTEND;TZID=Australia/Perth:20210326T170000
DTSTAMP:20210301T013412
CREATED:20210203T064921Z
LAST-MODIFIED:20210203T064921Z
UID:5781-1616745600-1616778000@www.mwhpn.com.au
SUMMARY:Skin cancer for clinicians | Friday 26 March
DESCRIPTION:Hosted by RACGP WA\, this full-day workshop examines a broad range of skin cancers frequently seen in general practice. The day includes sessions on dermascopy\, skin cancer diagnosis\, management and in-depth practical biopsy and suturing sessions. Click here for further information.
URL:https://www.mwhpn.com.au/event/skin-cancer-for-clinicians-friday-26-march/
LOCATION:WA\, Australia
CATEGORIES:Health
END:VEVENT
BEGIN:VEVENT
DTSTART;TZID=Australia/Perth:20210326T183000
DTEND;TZID=Australia/Perth:20210326T203000
DTSTAMP:20210301T013412
CREATED:20210203T065203Z
LAST-MODIFIED:20210203T065203Z
UID:5783-1616783400-1616790600@www.mwhpn.com.au
SUMMARY:GP Obstetrics Think Tank | Friday 26 March | 6.30-8.30pm
DESCRIPTION:Hosted by the General Practice Obstetrics Western Advisory Group (GPOWAAG)\, this Think Tank offers an opportunity for GP Obstetricians\, Obstetricians and Gynaecologists\, GP registrars and Midwives to discuss current issues affecting the obstetric workforce. Findings from the Think Tank will be used by the GPOWAAG to support and guide GP obstetric services in rural Western Australia. Click here for further information.
URL:https://www.mwhpn.com.au/event/gp-obstetrics-think-tank-friday-26-march-6-30-8-30pm/
LOCATION:WA\, Australia
CATEGORIES:Health
END:VEVENT
BEGIN:VEVENT
DTSTART;TZID=Australia/Perth:20210327T080000
DTEND;TZID=Australia/Perth:20210328T170000
DTSTAMP:20210301T013412
CREATED:20201109T063854Z
LAST-MODIFIED:20201203T023036Z
UID:4551-1616832000-1616950800@www.mwhpn.com.au
SUMMARY:WA Rural Health Conference 2021
DESCRIPTION:The 2021 conference theme of lessons learnt from past disasters will focus on learnings and effects from the recent disasters that have impacted both Australia and the world and how we can prepare for future adversities. The conference will focus on dealing with the aftermath of natural disasters such as bushfires\, floods and COVID-19. \nDelegates will share ideas and challenges with forward thinkers\, whilst having the opportunity to network with colleagues. The WA Rural Health Conference 2021 will provide clinical updates\, case studies\, small group discussions and workshops covering topics relevant to the rural workforce. \nThe 2021 conference will expand its educational content and have sessions targeted to rural nurses and midwives. Rural Health West will also expand its travel support to include nurses and midwives and their partners (please visit the Travel page for terms and conditions).
URL:https://www.mwhpn.com.au/event/wa-rural-health-conference-2021/
LOCATION:Perth Convention and Exhibition Centre\, 21 Mounts Bay Road\, Perth\, WA\, 6000\, Australia
CATEGORIES:Health
END:VEVENT
BEGIN:VEVENT
DTSTART;TZID=Australia/Perth:20210327T090000
DTEND;TZID=Australia/Perth:20210327T163000
DTSTAMP:20210301T013412
CREATED:20210113T055728Z
LAST-MODIFIED:20210113T061101Z
UID:5708-1616835600-1616862600@www.mwhpn.com.au
SUMMARY:DIABETES WA-"LET'S PREVENT" PROGRAM
DESCRIPTION:The “Let’s Prevent” program is run by Diabetes Western Australia. The program is designed to help prevent or reduce an individual’s risk in developing type 2 diabetes\, strokes or cardiovascular disease. It is a health program that provides people with practical information and skills that will enable them to make simple\, sustainable lifestyle changes. “Let’s Prevent” is an evidence-based program from the UK which has been adapted for the Australian community. It has a fantastic NPS and PAM score rating and has been proven to support behavioral change. \nOUTLINE OF THE PROGRAM \nThe “Let’s Prevent” program is structured over a 12-month period where two local health facilitators run the initial 6-hour session. A maximum number of 10 patients are able to attend and each patient can bring along a support friend or family member. \nThe 6-hour workshop addresses the following: \n\nCore nutritional principles such as\, “How food gets absorbed and the role carbohydrates and glucose play in the body”.\nHow does pre-diabetes develop into diabetes?\nTypes of fats and how they impact health\nInteraction with food models and understanding portion sizes\nBlood vessel health\nThe importance of physical activity\nSMART goal planning\nPsychosocial wellbeing\n\nAfter the initial session has completed\, patients are contacted at 8 and 16 weeks for a follow up\, support call by a health professional. After 6 months\, patients attend another 3-hour session followed by a 12-week support phone call. At 12 months the patient ends the program and are referred onto other health professionals or organizations if they require further assistance. \nSOUTH WEST REGION PILOT STUDY \nDiabetes WA has been conducting a “Let’s Prevent” pilot study in the South West/Greater Bunbury area over the last two years. The study results showed an average weight loss of 5.4 kg in participants over a 4-month period since starting the program. More than two thirds of the participants increased their physical activity and near on 60 percent consumed more vegetables in the 6 months since attending the initial session. \nWHO CAN JOIN THE PROGRAM? \n\nThe program is aimed at helping people who are at a high risk of developing Type 2 Diabetes\, CVD or strokes. If you notice your patient’s blood profile increasing overtime (HbA1c\, Fasting BG\, raised BP or cholesterol level) or if your patient has an AUSDRISK score of 12 or more or if your patient is obese\, please send them onto the “Let’s Prevent” program as soon as possible. Diabetes WA provides a “Let’s Prevent” form to all health professionals that will help facilitate easy patient activation onto our program. \n  \nPROGRAM DATES IN GERALDTON \n  \n12 February 2021 \n27 March​ 2021 \n22 April 2021 \n  \nCONTACT \n  \nPlease contact tanya.dale@diabeteswa.com.au if you require further information or you can visit diabeteswa.com.au/lets/prevent. \n 
URL:https://www.mwhpn.com.au/event/diabetes-wa-lets-prevent-program/
LOCATION:Geraldton\, Geraldton\, WA\, 6530\, Australia
CATEGORIES:Health
END:VEVENT
BEGIN:VEVENT
DTSTART;TZID=Australia/Perth:20210327T180000
DTEND;TZID=Australia/Perth:20210327T180000
DTSTAMP:20210301T013412
CREATED:20210114T003213Z
LAST-MODIFIED:20210114T003213Z
UID:5718-1616868000-1616868000@www.mwhpn.com.au
SUMMARY:2021 WA Rural Health Awards - Excellence
DESCRIPTION:Awards Ceremony and Gala Dinner \nSaturday 27 March 2021  I  6.00pm – midnight  I  The Ritz-Carlton Perth
URL:https://www.mwhpn.com.au/event/2021-wa-rural-health-awards-excellence/
LOCATION:Ritz-Carlton\, 1 Barrack Street\, Perth\, WA\, 6000\, Australia
CATEGORIES:Health
END:VEVENT
END:VCALENDAR