BEGIN:VCALENDAR
VERSION:2.0
PRODID:-//Midwest-Gascoyne Health Professional Network - ECPv6.15.20//NONSGML v1.0//EN
CALSCALE:GREGORIAN
METHOD:PUBLISH
X-WR-CALNAME:Midwest-Gascoyne Health Professional Network
X-ORIGINAL-URL:https://www.mwhpn.com.au
X-WR-CALDESC:Events for Midwest-Gascoyne Health Professional Network
REFRESH-INTERVAL;VALUE=DURATION:PT1H
X-Robots-Tag:noindex
X-PUBLISHED-TTL:PT1H
BEGIN:VTIMEZONE
TZID:Australia/Perth
BEGIN:STANDARD
TZOFFSETFROM:+0800
TZOFFSETTO:+0800
TZNAME:AWST
DTSTART:20240101T000000
END:STANDARD
END:VTIMEZONE
BEGIN:VTIMEZONE
TZID:Australia/Sydney
BEGIN:STANDARD
TZOFFSETFROM:+1100
TZOFFSETTO:+1000
TZNAME:AEST
DTSTART:20240406T160000
END:STANDARD
BEGIN:DAYLIGHT
TZOFFSETFROM:+1000
TZOFFSETTO:+1100
TZNAME:AEDT
DTSTART:20241005T160000
END:DAYLIGHT
BEGIN:STANDARD
TZOFFSETFROM:+1100
TZOFFSETTO:+1000
TZNAME:AEST
DTSTART:20250405T160000
END:STANDARD
BEGIN:DAYLIGHT
TZOFFSETFROM:+1000
TZOFFSETTO:+1100
TZNAME:AEDT
DTSTART:20251004T160000
END:DAYLIGHT
BEGIN:STANDARD
TZOFFSETFROM:+1100
TZOFFSETTO:+1000
TZNAME:AEST
DTSTART:20260404T160000
END:STANDARD
BEGIN:DAYLIGHT
TZOFFSETFROM:+1000
TZOFFSETTO:+1100
TZNAME:AEDT
DTSTART:20261003T160000
END:DAYLIGHT
END:VTIMEZONE
BEGIN:VEVENT
DTSTART;TZID=Australia/Perth:20250409T123000
DTEND;TZID=Australia/Perth:20250409T133000
DTSTAMP:20260421T093747
CREATED:20250326T042433Z
LAST-MODIFIED:20250326T042433Z
UID:10001227-1744201800-1744205400@www.mwhpn.com.au
SUMMARY:Q & A Webinar: Ahpra's new practitioner portal
DESCRIPTION:Welcome to our series of Q&A forums for employers\, recruiters and other people who help applicants and practitioners with their registration. \n  \nCome along if you have a question or just want to learn more about how you can best support your health practitioners with changes to the application and renewal processes. \n  \nThese sessions follow on from the recent webinars we held about Ahpra’s new practitioner portal.
URL:https://www.mwhpn.com.au/event/q-a-webinar-ahpras-new-practitioner-portal-2/
LOCATION:Online Webinar
CATEGORIES:Health
END:VEVENT
BEGIN:VEVENT
DTSTART;TZID=Australia/Sydney:20250402T123000
DTEND;TZID=Australia/Sydney:20250402T133000
DTSTAMP:20260421T093747
CREATED:20250326T035353Z
LAST-MODIFIED:20250326T035424Z
UID:10001226-1743597000-1743600600@www.mwhpn.com.au
SUMMARY:Q & A Webinar: Ahpra's new practitioner portal
DESCRIPTION:Welcome to our series of Q&A forums for employers\, recruiters and other people who help applicants and practitioners with their registration. \n  \nCome along if you have a question or just want to learn more about how you can best support your health practitioners with changes to the application and renewal processes. \n  \nThese sessions follow on from the recent webinars we held about Ahpra’s new practitioner portal.
URL:https://www.mwhpn.com.au/event/q-a-webinar-ahpras-new-practitioner-portal/
LOCATION:Online Webinar
CATEGORIES:Health
END:VEVENT
END:VCALENDAR