BEGIN:VCALENDAR
VERSION:2.0
PRODID:-//Midwest-Gascoyne Health Professional Network - ECPv6.15.20//NONSGML v1.0//EN
CALSCALE:GREGORIAN
METHOD:PUBLISH
X-WR-CALNAME:Midwest-Gascoyne Health Professional Network
X-ORIGINAL-URL:https://www.mwhpn.com.au
X-WR-CALDESC:Events for Midwest-Gascoyne Health Professional Network
REFRESH-INTERVAL;VALUE=DURATION:PT1H
X-Robots-Tag:noindex
X-PUBLISHED-TTL:PT1H
BEGIN:VTIMEZONE
TZID:Australia/Perth
BEGIN:STANDARD
TZOFFSETFROM:+0800
TZOFFSETTO:+0800
TZNAME:AWST
DTSTART:20220101T000000
END:STANDARD
END:VTIMEZONE
BEGIN:VEVENT
DTSTART;TZID=Australia/Perth:20240223T173000
DTEND;TZID=Australia/Perth:20240223T193000
DTSTAMP:20260426T014249
CREATED:20231123T132005Z
LAST-MODIFIED:20240220T060504Z
UID:10001032-1708709400-1708716600@www.mwhpn.com.au
SUMMARY:MWGHPN Welcome to 2024 Networking Event | Geraldton
DESCRIPTION:The Midwest-Gascoyne Health Professionals Network invites our health practitioners and their families to our welcome to 2024 networking event.\nCome down and enjoy a relaxed evening with some light refreshments and catch up with colleagues and friends after the holiday season. \nWhen: Friday 23 February 2023\nTime: 5.30pm-7.30pm\nWhere: Spalding Park Golf Club Green Street\, Spalding \nRegister HERE. \nThis event is FREE for members of the Midwest-Gascoyne Health Professionals Network – Visit mwhpn.com.au/network to become a member (membership is free).\nFor more information\, please email MWGHPN Regional Program Officer Daria Budarina at contact@mwhpn.com.au
URL:https://www.mwhpn.com.au/event/mwghpn-welcome-to-2024-networking-event-geraldton/
LOCATION:Spalding Park Golf Club\, Green Street\, Spalding\, WA\, 6530\, Australia
CATEGORIES:Health
ATTACH;FMTTYPE=image/png:https://www.mwhpn.com.au/wp-content/uploads/2023/11/MWGHPN_Welcome_2024_Geraldton-23Feb_FB_event_image_430x225px.png
ORGANIZER;CN="Midwest-Gascoyne Health Professionals Network":MAILTO:contact@mwhpn.com.au
END:VEVENT
BEGIN:VEVENT
DTSTART;TZID=Australia/Perth:20231123T173000
DTEND;TZID=Australia/Perth:20231123T203000
DTSTAMP:20260426T014249
CREATED:20231012T022307Z
LAST-MODIFIED:20231012T022930Z
UID:10001003-1700760600-1700771400@www.mwhpn.com.au
SUMMARY:MWGHPN Mental Health Education & Networking event with Mat Coleman | Geraldton
DESCRIPTION:The Midwest-Gascoyne Health Professionals Network (MWGHPN) would like to invite all health professionals to join regional and addiction psychiatrist\, Associate Professor Mat Coleman to an interactive education evening followed by a social sundowner. \nDate: Thursday 23 November 2023 \nVenue: Geraldton Multipurpose Centre\, 31 Foreshore Drive\, Geraldton \nSchedule: \n\n5.30pm-7.00pm – Mat Coleman\n7.00pm-7.30pm – Q&A\n7.30pm-8.30pm – Sundowner\n\nLight refreshments provided. \nPlaces are limited\, please click HERE to register.
URL:https://www.mwhpn.com.au/event/mwghpn-mental-health-education-networking-event-with-mat-coleman-geraldton/
LOCATION:Geraldton Multipurpose Centre\, 31 Foreshore Drive\, Geraldton\, WA
CATEGORIES:Health
ATTACH;FMTTYPE=image/png:https://www.mwhpn.com.au/wp-content/uploads/2023/10/MWHPN_Social_sundowner-Carnarvon_20Sept_FB_event_image_430x225px.png
ORGANIZER;CN="Midwest-Gascoyne Health Professionals Network":MAILTO:contact@mwhpn.com.au
END:VEVENT
BEGIN:VEVENT
DTSTART;TZID=Australia/Perth:20230921T170000
DTEND;TZID=Australia/Perth:20230921T190000
DTSTAMP:20260426T014249
CREATED:20230919T032025Z
LAST-MODIFIED:20230919T032419Z
UID:10001000-1695315600-1695322800@www.mwhpn.com.au
SUMMARY:MWGHPN Networking & Social Sundowner | Exmouth
DESCRIPTION:Join us at the Midwest-Gascoyne Health Professionals Network Networking Event in Exmouth! \nAre you a health professional in Exmouth or part of the vibrant healthcare community in the region? If so\, the MWGHPN invites our Exmouth health professionals and their families to our networking event. \nThis event is FREE! For more information\, please contact MWGHPN Regional Program Officer Daria Budarina on email contact@mwhpn.com.au  \nDATE: Thursday 21 September 2023\nTIME: 5.00pm-7.00pm\nVENUE: Whalebone Brewing Co \nLight refreshments available. Places are limited!
URL:https://www.mwhpn.com.au/event/mwghpn-networking-social-sundowner-exmouth/
LOCATION:Whalebone Brewing Co\, 27 Patterson Way\, Exmouth\, WA\, Australia
CATEGORIES:Health
ATTACH;FMTTYPE=image/png:https://www.mwhpn.com.au/wp-content/uploads/2023/09/MWHPN_Social_sundowner-Exmouth_21Sept_FB_event_image_430x225px.png
ORGANIZER;CN="Midwest-Gascoyne Health Professionals Network":MAILTO:contact@mwhpn.com.au
END:VEVENT
END:VCALENDAR