BEGIN:VCALENDAR
VERSION:2.0
PRODID:-//Midwest-Gascoyne Health Professional Network - ECPv6.15.20//NONSGML v1.0//EN
CALSCALE:GREGORIAN
METHOD:PUBLISH
X-ORIGINAL-URL:https://www.mwhpn.com.au
X-WR-CALDESC:Events for Midwest-Gascoyne Health Professional Network
REFRESH-INTERVAL;VALUE=DURATION:PT1H
X-Robots-Tag:noindex
X-PUBLISHED-TTL:PT1H
BEGIN:VTIMEZONE
TZID:Australia/Perth
BEGIN:STANDARD
TZOFFSETFROM:+0800
TZOFFSETTO:+0800
TZNAME:AWST
DTSTART:20210101T000000
END:STANDARD
END:VTIMEZONE
BEGIN:VEVENT
DTSTART;TZID=Australia/Perth:20220224T100000
DTEND;TZID=Australia/Perth:20220224T150000
DTSTAMP:20260420T205507
CREATED:20220201T034849Z
LAST-MODIFIED:20220201T034849Z
UID:10000689-1645696800-1645714800@www.mwhpn.com.au
SUMMARY:Multi-Service Day - for service providers
DESCRIPTION:For mental health and support services in\, or providing outreach to the North Midlands \nIf your organisation provides (or could start providing) services to the North Midlands communities\, we invite you to join together with the North Midlands Project for this North Midlands-specific Multi-Service Day.  The day aims to achieve the following: \n\nIncrease inter-service awareness of available support\nBuild up inter-service relationships and increase service collaboration\nIdentify issues affecting the North Midlands communities and gaps in service provision\nWork together to target these issues in a collaborative way.\n\nJoin us in improving the mental health of the North Midlands community\, by coming together to: \n\nBetter utilise current resources\nBuild better working relationships between services\nIdentify gaps and work together to fill them\nAdvocate for support for gaps we can’t fill ourselves\nReview the current North Midlands Community Action Plan\n\nLUNCH PROVIDED \nPlease RSVP to elizabeth.lockyer@health.wa.gov.au \nVIEW THE FLYER HERE
URL:https://www.mwhpn.com.au/event/multi-service-day-for-service-providers/
LOCATION:Carnamah Town Hall\, WA\, Australia
CATEGORIES:Health
END:VEVENT
END:VCALENDAR