BEGIN:VCALENDAR
VERSION:2.0
PRODID:-//Midwest-Gascoyne Health Professional Network - ECPv6.15.20//NONSGML v1.0//EN
CALSCALE:GREGORIAN
METHOD:PUBLISH
X-WR-CALNAME:Midwest-Gascoyne Health Professional Network
X-ORIGINAL-URL:https://www.mwhpn.com.au
X-WR-CALDESC:Events for Midwest-Gascoyne Health Professional Network
REFRESH-INTERVAL;VALUE=DURATION:PT1H
X-Robots-Tag:noindex
X-PUBLISHED-TTL:PT1H
BEGIN:VTIMEZONE
TZID:Australia/Perth
BEGIN:STANDARD
TZOFFSETFROM:+0800
TZOFFSETTO:+0800
TZNAME:AWST
DTSTART:20230101T000000
END:STANDARD
END:VTIMEZONE
BEGIN:VEVENT
DTSTART;TZID=Australia/Perth:20240219T090000
DTEND;TZID=Australia/Perth:20240219T163000
DTSTAMP:20260425T064615
CREATED:20231218T084210Z
LAST-MODIFIED:20240220T060604Z
UID:10000857-1708333200-1708360200@www.mwhpn.com.au
SUMMARY:Valuable Conversations for reducing the impact of alcohol use during child-bearing years
DESCRIPTION:The Mental Health Commission’s Valuable Conversation training is designed to increase confidence in delivering Fetal Alcohol Spectrum Disorder (FASD) prevention. The training covers: \n• Reflective Practice as a tool to improve the way we work with clients. \n• Trauma Informed Care and Practice to help us recognise why alcohol use may happen in pregnancy. \n• Motivational Interviewing to better understand and express empathy towards our clients. \n• FASD prevention using the National Strategic Action Plan to guide us in providing holistic care. \n• Brief Interventions to bring together new knowledge and skills practise with the AUDIT-C and ‘Five As’. \nThis event does not provide information on FASD diagnosis or treatment. \nTo register or for more information contact: FASDprevention@mhc.wa.gov.au
URL:https://www.mwhpn.com.au/event/valuable-conversations-for-reducing-the-impact-of-alcohol-use-during-child-bearing-years/
LOCATION:Main Roads Geraldton\, Eastward Rd\, Geraldton\, Western Australia\, 6532\, Australia
CATEGORIES:Health
END:VEVENT
END:VCALENDAR