BEGIN:VCALENDAR
VERSION:2.0
PRODID:-//Midwest-Gascoyne Health Professional Network - ECPv6.15.20//NONSGML v1.0//EN
CALSCALE:GREGORIAN
METHOD:PUBLISH
X-WR-CALNAME:Midwest-Gascoyne Health Professional Network
X-ORIGINAL-URL:https://www.mwhpn.com.au
X-WR-CALDESC:Events for Midwest-Gascoyne Health Professional Network
REFRESH-INTERVAL;VALUE=DURATION:PT1H
X-Robots-Tag:noindex
X-PUBLISHED-TTL:PT1H
BEGIN:VTIMEZONE
TZID:Australia/Perth
BEGIN:STANDARD
TZOFFSETFROM:+0800
TZOFFSETTO:+0800
TZNAME:AWST
DTSTART:20240101T000000
END:STANDARD
END:VTIMEZONE
BEGIN:VEVENT
DTSTART;TZID=Australia/Perth:20250207T170000
DTEND;TZID=Australia/Perth:20250207T200000
DTSTAMP:20260425T150241
CREATED:20250124T072347Z
LAST-MODIFIED:20250124T072347Z
UID:10001134-1738947600-1738958400@www.mwhpn.com.au
SUMMARY:WA Rural Health Long Service Awards 2025 | Perth
DESCRIPTION:The WA Rural Health Long Service Awards are run in partnership with Rural Health West and the WA Country Health Service. The WA Rural Health Long Service Awards honour the remarkable dedication of general practitioners and medical specialists who have served the rural communities of Western Australia for over 20 years. \nSince 2008\, Rural Health West has proudly hosted the annual WA Rural Health Awards (previously known as the WA Country Doctors Awards)\, celebrating the outstanding contributions of health professionals working in rural areas.  These awards not only recognise long-standing service but also highlight excellence in rural health care. \nIn 2017\, the WA Country Health Service joined forces with Rural Health West to further acknowledge the unwavering commitment and exceptional service of our rural health professionals.  Together\, we pay tribute to those who have devoted their careers to ensuring that rural and remote communities have access to quality health care. \nTickets are essential – PURCHASE TICKETS HERE. \nCost: $65 per person (Complimentary ticket for recipient & guest)\nDress: Cocktail
URL:https://www.mwhpn.com.au/event/wa-rural-health-long-service-awards-2025-perth/
LOCATION:University Club (UWA)\, 5 Hackett Drive\, Perth\, Crawley\, 6009\, Australia
CATEGORIES:Health
END:VEVENT
END:VCALENDAR